BEGIN:VCALENDAR
VERSION:2.0
PRODID:-//Mission Ministries Philippines - ECPv6.15.20//NONSGML v1.0//EN
CALSCALE:GREGORIAN
METHOD:PUBLISH
X-WR-CALNAME:Mission Ministries Philippines
X-ORIGINAL-URL:https://missionministriesphilippines.org
X-WR-CALDESC:Events for Mission Ministries Philippines
REFRESH-INTERVAL;VALUE=DURATION:PT1H
X-Robots-Tag:noindex
X-PUBLISHED-TTL:PT1H
BEGIN:VTIMEZONE
TZID:Asia/Shanghai
BEGIN:STANDARD
TZOFFSETFROM:+0800
TZOFFSETTO:+0800
TZNAME:CST
DTSTART:20250101T000000
END:STANDARD
END:VTIMEZONE
BEGIN:VEVENT
DTSTART;TZID=Asia/Shanghai:20260423T080000
DTEND;TZID=Asia/Shanghai:20260425T170000
DTSTAMP:20260424T191349
CREATED:20251218T080243Z
LAST-MODIFIED:20260227T032810Z
UID:2325-1776931200-1777136400@missionministriesphilippines.org
SUMMARY:Early Childhood Education Crash Course Level 1
DESCRIPTION:please click to register
URL:https://missionministriesphilippines.org/event/early-childhood-education-crash-course-level-1/
CATEGORIES:Seminar,Training,Upcoming Seminars
END:VEVENT
END:VCALENDAR