BEGIN:VCALENDAR
VERSION:2.0
PRODID:-//Mission Ministries Philippines - ECPv6.15.20//NONSGML v1.0//EN
CALSCALE:GREGORIAN
METHOD:PUBLISH
X-WR-CALNAME:Mission Ministries Philippines
X-ORIGINAL-URL:https://missionministriesphilippines.org
X-WR-CALDESC:Events for Mission Ministries Philippines
REFRESH-INTERVAL;VALUE=DURATION:PT1H
X-Robots-Tag:noindex
X-PUBLISHED-TTL:PT1H
BEGIN:VTIMEZONE
TZID:Asia/Shanghai
BEGIN:STANDARD
TZOFFSETFROM:+0800
TZOFFSETTO:+0800
TZNAME:CST
DTSTART:20250101T000000
END:STANDARD
END:VTIMEZONE
BEGIN:VEVENT
DTSTART;TZID=Asia/Shanghai:20260423T080000
DTEND;TZID=Asia/Shanghai:20260425T170000
DTSTAMP:20260424T194104
CREATED:20251218T080243Z
LAST-MODIFIED:20260227T032810Z
UID:2325-1776931200-1777136400@missionministriesphilippines.org
SUMMARY:Early Childhood Education Crash Course Level 1
DESCRIPTION:please click to register
URL:https://missionministriesphilippines.org/event/early-childhood-education-crash-course-level-1/
CATEGORIES:Seminar,Training,Upcoming Seminars
END:VEVENT
BEGIN:VEVENT
DTSTART;TZID=Asia/Shanghai:20260507T080000
DTEND;TZID=Asia/Shanghai:20260509T170000
DTSTAMP:20260424T194104
CREATED:20251218T081300Z
LAST-MODIFIED:20260227T075715Z
UID:2332-1778140800-1778346000@missionministriesphilippines.org
SUMMARY:Early Childhood Education Crash Course Level 2
DESCRIPTION:please click to register
URL:https://missionministriesphilippines.org/event/early-childhood-education-crash-course-level-2/
CATEGORIES:Seminar,Training,Upcoming Seminars
END:VEVENT
BEGIN:VEVENT
DTSTART;TZID=Asia/Shanghai:20260815T130000
DTEND;TZID=Asia/Shanghai:20260815T170000
DTSTAMP:20260424T194104
CREATED:20251218T083806Z
LAST-MODIFIED:20251218T084030Z
UID:2335-1786798800-1786813200@missionministriesphilippines.org
SUMMARY:Assessment in Early Childhood Education Observation\, Portfolios and Learning Stories
DESCRIPTION:Assessment in Early Childhood Education Observation\, Portfolios and Learning Stories\nAugust 15\, 2026 \n(1:00pm to 5:00pm via Zoom)
URL:https://missionministriesphilippines.org/event/assessment-in-early-childhood-education-observation-portfolios-and-learning-stories/
CATEGORIES:Refresher Course,Seminar,Training,Upcoming Seminars
END:VEVENT
BEGIN:VEVENT
DTSTART;TZID=Asia/Shanghai:20261010T130000
DTEND;TZID=Asia/Shanghai:20261010T170000
DTSTAMP:20260424T194104
CREATED:20251218T084241Z
LAST-MODIFIED:20251218T084241Z
UID:2338-1791637200-1791651600@missionministriesphilippines.org
SUMMARY:Emergent Literacy Building Reading Readiness in Preschoolers
DESCRIPTION:Emergent Literacy Building Reading Readiness in Preschoolers\nOctober 10\,2026 (1:00pm to 5:00pm via Zoom)
URL:https://missionministriesphilippines.org/event/emergent-literacy-building-reading-readiness-in-preschoolers/
CATEGORIES:Refresher Course,Seminar,Training,Upcoming Seminars
END:VEVENT
END:VCALENDAR